BEGIN:VCALENDAR
VERSION:2.0
PRODID:-//Verkehrswacht Lünen e. V.//NONSGML kigkonsult.se iCalcreator 2.41.92//
CALSCALE:GREGORIAN
METHOD:PUBLISH
UID:34316531-3733-4132-a334-613837363030
X-WR-CALNAME:iCagenda
X-WR-CALDESC:Event Management Extension for Joomla!
X-WR-RELCALID:3E26604A-50F4-4449-8B3E-E4F4932D05B5
X-WR-TIMEZONE:UTC
BEGIN:VTIMEZONE
TZID:UTC
END:VTIMEZONE
BEGIN:VEVENT
UID:39613666-3262-4165-b166-336236353535
DTSTAMP:20260421T233704Z
CATEGORIES:Verein
CLASS:PUBLIC
DESCRIPTION:
DTSTART:20230923T100000Z
DTEND:20230923T160000Z
GEO:00;0
LOCATION:
ORGANIZER:
SEQUENCE:1
SUMMARY:30 Jahre Jugendverkehrsschule
TRANSP:OPAQUE
URL:https://verkehrswacht-luenen.de/aktivitaeten-kalender/39-30-jahre-jugen
 dverkehrsschule.html
END:VEVENT
END:VCALENDAR
