BEGIN:VCALENDAR
VERSION:2.0
PRODID:-//Verkehrswacht Lünen e. V.//NONSGML kigkonsult.se iCalcreator 2.41.92//
CALSCALE:GREGORIAN
METHOD:PUBLISH
UID:38636138-3137-4331-b965-313330626332
X-WR-CALNAME:iCagenda
X-WR-CALDESC:Event Management Extension for Joomla!
X-WR-RELCALID:3E26604A-50F4-4449-8B3E-E4F4932D05B5
X-WR-TIMEZONE:UTC
BEGIN:VTIMEZONE
TZID:UTC
END:VTIMEZONE
BEGIN:VEVENT
UID:61623332-3039-4661-b939-326166383936
DTSTAMP:20260421T190525Z
CATEGORIES:Pedelectraining
CLASS:PUBLIC
DESCRIPTION;ALTREP="CID:<FFFF__=0ABBE548DFE235B58f9e8a93d@coffeebean.com>":
 Zum Inhalt des Seminares gehören ein theoretischer Teil (u.a. Benutzung de
 s Fahrradhelmes\, Erklärung des „Toten Winkel“\, Fahrradschaltung) und fah
 rpraktische Übungen. Bei den praktischen Übungen werden besonders das Hand
 ling\, Bremsen und die Benutzung der Schiebehilfe geübt.\nVoraussetzung de
 r Teilnahme ist ein Pédelec und das Tragen eines Fahrradhelmes.\nEine Anme
 ldung erfolgt ausschließlich über die Homepage der Verkehrswacht Lünen\, m
 it einer schriftlichen Bestätigung per Mail.
DTSTART:20230624T100000Z
DTEND:20230624T140000Z
GEO:00;0
LOCATION:Jugendverkehrsschule Lünen\, Karl-Kiehm-Weg 7
ORGANIZER;CN=:mailto:info@verkehrswacht-luenen.de
SEQUENCE:1
SUMMARY:Pédelec Training für Jedermann
TRANSP:OPAQUE
URL:https://verkehrswacht-luenen.de/aktivitaeten-kalender/38-p%C3%A9delec-t
 raining-f%C3%BCr-senioren-2/2023-06-24-10-00.html
END:VEVENT
END:VCALENDAR
