BEGIN:VCALENDAR
VERSION:2.0
PRODID:-//Verkehrswacht Lünen e. V.//NONSGML kigkonsult.se iCalcreator 2.41.92//
CALSCALE:GREGORIAN
METHOD:PUBLISH
UID:35373763-6335-4834-b033-353065666338
X-WR-CALNAME:iCagenda
X-WR-CALDESC:Event Management Extension for Joomla!
X-WR-RELCALID:3E26604A-50F4-4449-8B3E-E4F4932D05B5
X-WR-TIMEZONE:UTC
BEGIN:VTIMEZONE
TZID:UTC
END:VTIMEZONE
BEGIN:VEVENT
UID:38323437-6638-4463-b538-313431306432
DTSTAMP:20260421T173201Z
CATEGORIES:Ferien Fahrradtraining
CLASS:PUBLIC
DESCRIPTION;ALTREP="CID:<FFFF__=0ABBE548DFE235B58f9e8a93d@coffeebean.com>":
 Wir bitten Sie sich nur 2x pro Woche anzumelden. Die Verkehrswacht-Lünen b
 ehält sich deshalb vor mehrfach Anmeldungen auszuschließen.\nDie Ferienakt
 ion ist ein kostenloses Fahrradtraining für Lüner Kinder im Alter von 3 bi
 s 14 Jahren.\nUnter fachkundiger Anleitung der Verkehrssicherheitsberater 
 der Polizei und des ADFC Lünen\, werden Übungen zur Verkehrssicherheit dur
 chgeführt.\nDie Veranstaltung findet in der ersten und in der letzten ganz
 en Ferienwoche statt.&nbsp\;&nbsp\;&nbsp\;&nbsp\;&nbsp\;&nbsp\;&nbsp\;&nbs
 p\;&nbsp\;&nbsp\;&nbsp\;&nbsp\;&nbsp\;&nbsp\;&nbsp\;&nbsp\;&nbsp\;&nbsp\;&
 nbsp\;&nbsp\;&nbsp\;&nbsp\;&nbsp\;&nbsp\;&nbsp\;&nbsp\;&nbsp\;&nbsp\;&nbsp
 \;&nbsp\;&nbsp\;&nbsp\;&nbsp\;&nbsp\;&nbsp\;&nbsp\;&nbsp\;&nbsp\;&nbsp\;&n
 bsp\;\nDie Öffnungszeiten sind täglich in der Zeit von 09.00 Uhr bis 13.00
  Uhr.\nDie Anmeldung zur Teilnahme ist auf der Homepage verkehrswacht-luen
 en.de verlinkt und zwingend erforderlich. Aufgrund der beschränkten Teilne
 hmerzahl von 25 Kindern\, ist eine Teilnahme ohne Anmeldung ausgeschlossen
 . Bei positiver Anmeldung erfolgt eine Bestätigung per E-Mail.\nUm an dem 
 Training teilzunehmen\, müssen die Teilnehmer ein eigenes Fahrrad und Helm
  mitbringen.\nFür Kleinkinder wird ein Roller-und Fahrradtraining im geson
 derten Bereich angeboten.\nSchulkinder üben das sichere Fahren in einem Pa
 rcours.\nDurch den ADFC Lünen werden kleinere Fahrradreparaturen durchgefü
 hrt. Getränke und Grillwürtschen können zum kleinen Preis erworben werden.
 \nEin kleiner Tipp: Die Kleidung sollte der Witterung angepasst sein.\n&nb
 sp\;\nHINWEIS\n\nEinlass ist von 09.00 Uhr bis 09.30 Uhr\, ab 09.30h ist e
 ine Teilnahme nicht mehr möglich!\nEin Erwachsener begleitet verantwortlic
 h maximal zwei Kinder.\n\nAuf dem Gelände der Jungendverkehrsschule sind g
 ekennzeichnete Ordner eingesetzt. Deren Anordnungen ist Folge zu leisten.
DTSTART:20250718T090000Z
DTEND:20250718T130000Z
GEO:00;0
LOCATION:Jugendverkehrsschule Lünen\, Karl-Kiehm-Weg 7
ORGANIZER;CN=:mailto:info@verkehrswacht-luenen.de
SEQUENCE:1
SUMMARY:Ferien Training 2025
TRANSP:OPAQUE
URL:https://verkehrswacht-luenen.de/aktivitaeten-kalender/32-ferien-trainin
 g-18072025/2025-07-18-09-00.html
END:VEVENT
END:VCALENDAR
